Workbook

Sheet DADOS
B2: PREFEITURA MUNICIPAL DE MOCOCA
B3: SECRETARIA MUNICIPAL DE ENGENHARIA E INFRAESTRUTURA URBANA
B4: Rua XV de Novembro, 360 - Centro - Mococa - São Paulo
B5: Portal da Cidadania: www.mococa.sp.gov.br
B6: Tel: (19) 3656 - 9800
B7: DADOS E INFORMAÇÕES DO EMPREENDIMENTO
D9: =ORÇAMENTO!B9 -> EMPREENDIMENTO : FECHAMENTOS E REPAROS CENTRO DO IDOSO
D10: =ORÇAMENTO!B10 -> LOCAL: AV. São Paulo, Vila Lambari - Mococa-SP, CEP 13.731-020
D12: VALOR DE REPASSE | F12: 70000
D13: VALOR DE CONTRAPARTIDA | F13: =ORÇAMENTO!#REF!-F12 -> #REF!
D14: REGIME PREVIDENCIÁRIO PREVISTO PARA OBRA | F14: DESONERADO
D15: DATA BASE | F15: CDHU 190 - MAIO 2023
D17: RESPONSAVÊL TÉCNICO | F17: RENAN AUGUSTO DE CARVALHO
D18: CARGO / FUNÇÃO | F18: SECRETÁRIO MUNICIPAL
D19: CREA / CAU | F19: 5070103369
D20: ART Nº
D23: LICITAÇÃO
D24: DATA DE EMISSÃO DA LICITAÇÃO: XX/XX/XXXX
D25: Nº DE CONTRATO COM A EMPRESA : XXX/20XX
D26: NOME DA EMPRESA:
D27: CNPJ DA EMPRESA:
D28: TIPO DE LICITAÇÃO :
D31: ACOMPANHAMENTO
D32: MEDIÇÃO Nº | E32: VALOR MEDIDO NO PERIODO | G32: DATA DA MEDIÇÃO
D33: 1ª MEDIÇÃO | E33: R$ XXXXX,XX | G33: XX/XX/XXXX
D34: 2ª MEDIÇÃO | E34: R$ XXXXX,XX | G34: XX/XX/XXXX
D35: 3ª MEDIÇÃO | E35: R$ XXXXX,XX | G35: XX/XX/XXXX
D36: 4ª MEDIÇÃO | E36: R$ XXXXX,XX | G36: XX/XX/XXXX
D39: Obs: "teve termo aditivo de prazo", teve termo aditivo de valor", obra paralizada de tal a tal dia. Obra finalizada tal data

Sheet ORÇAMENTO
B2: PREFEITURA MUNICIPAL DE MOCOCA
B3: SECRETARIA MUNICIPAL DE ENGENHARIA E INFRAESTRUTURA URBANA
B4: Rua XV de Novembro, 360 - Centro - Mococa - São Paulo
B5: Portal da Cidadania: www.mococa.sp.gov.br
B6: Tel: (19) 3656 - 9800
B9: EMPREENDIMENTO : FECHAMENTOS E REPAROS CENTRO DO IDOSO | G9: Mococa, 22 de Abril de 2025
B10: LOCAL: AV. São Paulo, Vila Lambari - Mococa-SP, CEP 13.731-020
B11: FONTE/DATA BASE: CDHU 195 sem desoneração | I11: BDI 20,00%
B13: ITEM | C13: CÓDIGO | D13: FONTE | E13: DESCRIÇÃO | F13: UNID. | G13: VALOR MÁXIMO UNITÁRIO | H13: QUANTIDADE | I13: VALOR MAXIMO TOTAL
C15: DEMOLIÇÕES E RETIRADAS | I15: =SUM(I16:I21) -> 5480.2103
B16: 1.1 | C16: 03.02.040 | D16: CDHU | E16: Demolição manual de alvenaria de elevação ou elemento vazado, incluindo revestimento | F16: M3 | G16: 85.72 | H16: 17.94 | I16: =H16*G16 -> 1537.8168
B17: 1.2 | C17: 03.02.020 | D17: CDHU | E17: Demolição manual de alvenaria de fundação/embasamento | F17: M3 | G17: 128.58 | H17: 3.23 | I17: =H17*G17 -> 415.3134
B18: 1.3 | C18: 03.01.040 | D18: CDHU | E18: Demolição manual de concreto armado (COLUNAS EXISTENTES) | F18: M3 | G18: 428.6 | H18: 1.65 | I18: =H18*G18 -> 707.19
B19: 1.4 | C19: 05.07.040 | D19: CDHU | E19: Remoção de entulho separado de obra com caçamba metálica - terra, alvenaria, concreto, argamassa, madeira, papel, plástico ou metal | F19: M3 | G19: 109.37 | H19: =H16+H17+H18 -> 22.82 | I19: =H19*G19 -> 2495.8234
B20: 1.5 | C20: 04.09.020 | D20: CDHU | E20: Retirada de esquadria metálica em geral | F20: M2 | G20: 33.26 | H20: 3.5 | I20: =H20*G20 -> 116.41
B21: 1.6 | C21: 06.02.020 | D21: CDHU | E21: Escavação manual em solo de 1ª e 2ª categoria em vala ou cava até 1,5 m | F21: M3 | G21: 64.29 | H21: 3.23 | I21: =H21*G21 -> 207.6567
B22: 2 | C22: FUNDAÇÃO | I22: =SUM(I23:I27) -> 8884.0631
B23: 2.1 | C23: 54.01.010 | D23: CDHU | E23: Regularização e compactação mecanizada de superfície, sem controle do proctor normal (BALDRAME) | F23: M2 | G23: 3.69 | H23: 10.78 | I23: =H23*G23 -> 39.7782
B24: 2.2 | C24: 12.01.021 | D24: CDHU | E24: Broca em concreto armado diâmetro de 20 cm - completa | F24: M | G24: 68.62 | H24: 80 | I24: =H24*G24 -> 5489.6
B25: 2.3 | C25: 11.03.090 | D25: CDHU | E25: Concreto preparado no local, fck = 20 Mpa (ENCHIMENTO BALDRAME) | F25: M3 | G25: 532.37 | H25: 4.23 | I25: =H25*G25 -> 2251.9251
B26: 2.4 | C26: 32.16.010 | D26: CDHU | E26: Impermeabilização em pintura de asfalto oxidado com solventes orgânicos, sobre massa | F26: M2 | G26: 20.41 | H26: 10.78 | I26: =H26*G26 -> 220.0198
B27: 2.5 | C27: 14.01.050 | D27: CDHU | E27: Alvenaria de embasamento em bloco de concreto de 14 x 19 x 39 cm - classe A | F27: M3 | G27: 109.25 | H27: 8.08 | I27: =H27*G27 -> 882.74
B28: 3 | C28: MURO | I28: =SUM(I29:I34) -> 16853.786
B29: 3.1 | C29: 09.01.030 | D29: CDHU | E29: Forma em madeira comum para estrutura (COLUNAS) | F29: M2 | G29: 257.97 | H29: 3.68 | I29: =H29*G29 -> 949.3296
B30: 3.2 | C30: 09.01.160 | D30: CDHU | E30: Desmontagem de forma em madeira para estrutura de vigas, com tábuas (COLUNAS) | F30: M2 | G30: 8.71 | H30: 3.68 | I30: =H30*G30 -> 32.0528
B31: 3.3 | C31: 10.01.040 | D31: CDHU | E31: Armadura em barra de aço CA-50 (A ou B) fyk = 500 Mpa(COLUNAS) | F31: KG | G31: 10.49 | H31: 65.41 | I31: =H31*G31 -> 686.1509
B32: 3.4 | C32: 11.03.090 | D32: CDHU | E32: Concreto preparado no local, fck = 20 Mpa(COLUNAS) | F32: M3 | G32: 532.37 | H32: 1.65 | I32: =H32*G32 -> 878.4105
B33: 3.5 | C33: 14.10.111 | D33: CDHU | E33: Alvenaria de bloco de concreto de vedação de 14 cm - classe C | F33: M2 | G33: 93.67 | H33: 134 | I33: =H33*G33 -> 12551.78
B34: 3.6 | C34: 16.02.230 | D34: CDHU | E34: Cumeeira de barro emboçado tipos: plan, romana, italiana, francesa e paulistinha | F34: M | G34: 32.58 | H34: 53.9 | I34: =H34*G34 -> 1756.062
B35: 4 | C35: FECHAMENTO DA JANELA | I35: =SUM(I36:I38) -> 1049.216
B36: 4.1 | C36: 17.02.020 | D36: CDHU | E36: Chapisco | F36: M2 | G36: 7.33 | H36: 12.8 | I36: =H36*G36 -> 93.824
B37: 4.2 | C37: 17.02.220 | D37: CDHU | E37: Reboco | F37: M3 | G37: 13.82 | H37: 12.8 | I37: =H37*G37 -> 176.896
B38: 4.3 | C38: 33.10.010 | D38: CDHU | E38: Tinta látex antimofo em massa, inclusive preparo | F38: M2 | G38: 30.41 | H38: 25.6 | I38: =H38*G38 -> 778.496
B39: 5 | C39: LIMPEZA | I39: =I40 -> 1617
B40: 5.1 | C40: 55.01.020 | D40: CDHU | E40: Limpeza final da obra | F40: M2 | G40: 15 | H40: 107.8 | I40: =H40*G40 -> 1617
F42: TOTAL | H42: =SUM(I40,I36:I38,I29:I34,I23:I27,I16:I21) -> 33884.275
F44: TOTAL COM BDI | H44: =H42*20%+(H42) -> 40661.13

Sheet CFF
B2: PREFEITURA MUNICIPAL DE MOCOCA
B3: SECRETARIA MUNICIPAL DE ENGENHARIA E INFRAESTRUTURA URBANA
B4: Rua XV de Novembro, 360 - Centro - Mococa - São Paulo
B5: Portal da Cidadania: www.mococa.sp.gov.br
B6: Tel: (19) 3656 - 9800
B7: CFF- CRONOGRAMA FÍSICO FINANCEIRO
B8: =ORÇAMENTO!B9 -> EMPREENDIMENTO : FECHAMENTOS E REPAROS CENTRO DO IDOSO
B9: =ORÇAMENTO!B10 -> LOCAL: AV. São Paulo, Vila Lambari - Mococa-SP, CEP 13.731-020
B10: =ORÇAMENTO!B11 -> FONTE/DATA BASE: CDHU 195 sem desoneração | I10: =ORÇAMENTO!I11 -> BDI 20,00%
B12: ITEM | C12: DESCRIÇÃO DOS SERVIÇOS | D12: VALOR DOS SERVIÇOS | E12: % | F12: SERVIÇOS A SEREM EXECUTADOS POR PERIODO
F13: MêS 01 | G13: MÊS 02 | H13: MÊS 03 | I13: TOTAL
B14: 1 | C14: =ORÇAMENTO!C15 -> DEMOLIÇÕES E RETIRADAS | D14: =ORÇAMENTO!I15 -> 5480.2103 | E14: =D14/D19 -> 0.16173314 | F14: 1 | I14: =D14 -> 5480.2103
B15: 2 | C15: =ORÇAMENTO!C22 -> FUNDAÇÃO | D15: =ORÇAMENTO!I22 -> 8884.0631 | E15: =D15/D19 -> 0.26218838 | F15: 1
B16: 3 | C16: =ORÇAMENTO!C28 -> MURO | D16: =ORÇAMENTO!I28 -> 16853.786 | E16: =D16/D19 -> 0.49739254 | G16: 0.5 | H16: 0.5
B17: 4 | C17: =ORÇAMENTO!C35 -> FECHAMENTO DA JANELA | D17: =ORÇAMENTO!I35 -> 1049.216 | E17: =D17/D19 -> 0.030964688 | H17: 1
B18: 5 | C18: =ORÇAMENTO!C39 -> LIMPEZA | D18: =ORÇAMENTO!I39 -> 1617 | E18: =D18/D19 -> 0.047721251 | H18: 1
B19: Total em R$ | D19: =SUM(D14:D18) -> 33884.275 | E19: =SUM(E14:E18) -> 1 | F19: =D14+D15 -> 14364.273 | G19: =D16/2 -> 8426.8929 | H19: =D16/2+(D17+D18) -> 11093.109 | I19: =D19 -> 33884.275
B20: Total em % | F20: =E14+E15 -> 0.42392152 | G20: =E16/2 -> 0.24869627 | H20: =E17+E18+(E16/2) -> 0.32738221 | I20: =SUM(F20:H20) -> 1
B21: Total acumulado em R$ | F21: =F19 -> 14364.273 | G21: =G19+F21 -> 22791.166 | H21: =H19+G21 -> 33884.275 | I21: =H21 -> 33884.275
B22: Total acumulado em % | F22: =F20 -> 0.42392152 | G22: =G20+F22 -> 0.67261779 | H22: =H20+G22 -> 1 | I22: =H22 -> 1
B23: BDI 20,00% | F23: =F19*20% -> 2872.8547 | G23: =G19*20% -> 1685.3786 | H23: =H19*20% -> 2218.6218 | I23: =SUM(F23:H23) -> 6776.855
B24: Total acumulado com BDI 20,00% | F24: =F21+F23 -> 17237.128 | G24: =G21+G23 -> 24476.545 | H24: =H21+H23 -> 36102.897 | I24: =I21+I23 -> 40661.13
F28: PAULO ALBERTO JARDIM MACEDO
F29: ASSESSOR DO SETOR DE GESTÃO DA SECRETARIA
F30: MUNICIPAL DE ENGENHARIA E INFRAESTRUTURA URBANA

Sheet BDI
B2: PREFEITURA MUNICIPAL DE MOCOCA
B3: SECRETARIA MUNICIPAL DE ENGENHARIA E INFRAESTRUTURA URBANA
B4: Rua XV de Novembro, 360 - Centro - Mococa - São Paulo
B5: Portal da Cidadania: www.mococa.sp.gov.br
B6: Tel: (19) 3656 - 9800
B7: PLANILHA ANALÍTICA DO BDI
B8: =ORÇAMENTO!B9 -> EMPREENDIMENTO : FECHAMENTOS E REPAROS CENTRO DO IDOSO | G8: =ORÇAMENTO!G9 -> Mococa, 22 de Abril de 2025
B9: =ORÇAMENTO!B10 -> LOCAL: AV. São Paulo, Vila Lambari - Mococa-SP, CEP 13.731-020
B10: =ORÇAMENTO!B11 -> FONTE/DATA BASE: CDHU 195 sem desoneração
B12: ITEM | C12: DESCRIÇÃO | H12: % | I12: TOTAL
B13: 1 | C13: Administração central | I13: 0.04
B14: 2 | C14: Impostos e Taxas | I14: =H15+H16+H17 -> 0.09
B15: 2.1 | C15: ISS | H15: 0.05
B16: 2.2 | C16: PIS | H16: 0.008
B17: 2.3 | C17: Cofins | H17: 0.032
B18: 3 | C18: Taxa de Risco | I18: =H19+H20+H21 -> 0.022
B19: 3.1 | C19: Seguro | H19: 0.006
B20: 3.2 | C20: Risco | H20: 0.01
B21: 3.3 | C21: Garantia | H21: 0.006
B22: 4 | C22: Dispesa Financeira | I22: 0.018
B23: 5 | C23: Lucro | I23: 0.03
F24: BDI TOTAL | H24: =I23+I22+I18+I14+I13 -> 0.2
E29: PAULO ALBERTO JARDIM MACEDO
E30: ASSESSOR DO SETOR DE GESTÃO DA SECRETARIA
E31: MUNICIPAL DE ENGENHARIA E INFRAESTRUTURA URBANA

Sheet CÁLCULO
B2: PREFEITURA MUNICIPAL DE MOCOCA
B3: SECRETARIA MUNICIPAL DE ENGENHARIA E INFRAESTRUTURA URBANA
B4: Rua XV de Novembro, 360 - Centro - Mococa - São Paulo
B5: Portal da Cidadania: www.mococa.sp.gov.br
B6: Tel: (19) 3656 - 9800
B7: MC- MEMORIAL DE CÁLCULO
B8: =ORÇAMENTO!B9 -> EMPREENDIMENTO : FECHAMENTOS E REPAROS CENTRO DO IDOSO | G8: =ORÇAMENTO!G9 -> Mococa, 22 de Abril de 2025
B9: =ORÇAMENTO!B10 -> LOCAL: AV. São Paulo, Vila Lambari - Mococa-SP, CEP 13.731-020
B10: =ORÇAMENTO!B11 -> FONTE/DATA BASE: CDHU 195 sem desoneração | H10: =ORÇAMENTO!H11 -> 0 | I10: =ORÇAMENTO!I11 -> BDI 20,00%
B12: ITEM | C12: SERVIÇO | F12: QUANTIDADE | G12: CÁLCULO
B13: 1 | C13: =ORÇAMENTO!C15 -> DEMOLIÇÕES E RETIRADAS | G13: Descrição do cálculo
B14: 1.1 | C14: =ORÇAMENTO!E16 -> Demolição manual de alvenaria de elevação ou elemento vazado, incluindo revestimento | F14: =ORÇAMENTO!H16 -> 17.94 | G14: 2m de altura x 5m de comprimento
B15: 1.2 | C15: =ORÇAMENTO!E36 -> Chapisco | F15: =ORÇAMENTO!#REF! -> #REF! | G15: área a ser pavimentada conforme projeto
B16: 2 | C16: =ORÇAMENTO!#REF! -> #REF!
B17: 2.1 | C17: =ORÇAMENTO!#REF! -> #REF! | F17: =ORÇAMENTO!#REF! -> #REF! | G17: largura da via x comprimento da via
B18: 2.2 | C18: =ORÇAMENTO!#REF! -> #REF! | F18: =ORÇAMENTO!#REF! -> #REF! | G18: área a pavimentar 7320,25m2 x 0,05 espessura da camada de brita
B19: 2.3 | C19: =ORÇAMENTO!#REF! -> #REF! | F19: =ORÇAMENTO!#REF! -> #REF! | G19: largura da via x comprimento da via
B20: 2.4 | C20: =ORÇAMENTO!#REF! -> #REF! | F20: =ORÇAMENTO!#REF! -> #REF! | G20: área a pavimentar 7320,25m2 x 0,05 espessura da camada de CBUQ
B21: 3 | C21: =ORÇAMENTO!#REF! -> #REF! | F21: QUANTIDADE | G21: Descrição do cálculo
B22: 3.1 | C22: =ORÇAMENTO!#REF! -> #REF! | F22: =ORÇAMENTO!#REF! -> #REF! | G22: Metragem linear de guias curvas conforme projeto
B23: 3.2 | C23: =ORÇAMENTO!#REF! -> #REF! | F23: =ORÇAMENTO!#REF! -> #REF! | G23: Metragem linear de guias retas conforme projeto
B24: 3.3 | C24: =ORÇAMENTO!#REF! -> #REF! | F24: =ORÇAMENTO!#REF! -> #REF! | G24: metragem linear 1626,71m x altura 0,2m x largura da sarjeta 0,4m
B25: 4 | C25: =ORÇAMENTO!#REF! -> #REF! | F25: QUANTIDADE | G25: Descrição do cálculo
B26: 4.1 | C26: =ORÇAMENTO!#REF! -> #REF! | F26: =ORÇAMENTO!#REF! -> #REF! | G26: metragem de piso a ser instalados nas rampas de acessibilidade
B27: 4.2 | C27: =ORÇAMENTO!#REF! -> #REF! | F27: =ORÇAMENTO!#REF! -> #REF! | G27: área de passeio conforme projeto
B28: 4.3 | C28: =ORÇAMENTO!#REF! -> #REF! | F28: =ORÇAMENTO!#REF! -> #REF! | G28: área do passeio 3885,9m2 x 0,05m espessura da camada de brita
B29: 4.4 | C29: =ORÇAMENTO!#REF! -> #REF! | F29: =ORÇAMENTO!#REF! -> #REF! | G29: área do passeio 3885,9m2 x 0,05m espessura da calçada
B30: 5 | C30: =ORÇAMENTO!#REF! -> #REF! | F30: QUANTIDADE | G30: Descrição do cálculo
B31: 5.1 | C31: =ORÇAMENTO!#REF! -> #REF! | F31: =ORÇAMENTO!#REF! -> #REF! | G31: metragem conforme projeto
B32: 5.2 | C32: =ORÇAMENTO!#REF! -> #REF! | F32: =ORÇAMENTO!#REF! -> #REF! | G32: metragem conforme projeto
B33: 5.3 | C33: =ORÇAMENTO!#REF! -> #REF! | F33: =ORÇAMENTO!#REF! -> #REF! | G33: quantidade conforme projeto
B34: 5.4 | C34: =ORÇAMENTO!#REF! -> #REF! | F34: =ORÇAMENTO!#REF! -> #REF! | G34: quantidade conforme projeto
B35: 5.5 | C35: =ORÇAMENTO!#REF! -> #REF! | F35: =ORÇAMENTO!#REF! -> #REF! | G35: quantidade conforme projeto
B36: 5 | C36: =ORÇAMENTO!#REF! -> #REF! | F36: QUANTIDADE | G36: Descrição do cálculo
B37: 5.1 | C37: =ORÇAMENTO!#REF! -> #REF! | F37: =ORÇAMENTO!#REF! -> #REF! | G37: altura vezes largura das caixas vezes espessura
B38: 5.2 | C38: =ORÇAMENTO!#REF! -> #REF! | F38: =ORÇAMENTO!#REF! -> #REF! | G38: altura vezes largura das caixas vezes espessura
B39: 5.3 | C39: =ORÇAMENTO!#REF! -> #REF! | F39: =ORÇAMENTO!#REF! -> #REF! | G39: metragem de aço x kg por metro da barra
B40: 5.4 | C40: =ORÇAMENTO!#REF! -> #REF! | F40: =ORÇAMENTO!#REF! -> #REF! | G40: quantidade necessaria para montagem das caixas
B41: 5.5 | C41: =ORÇAMENTO!#REF! -> #REF! | F41: =ORÇAMENTO!#REF! -> #REF! | G41: quantidade necessaria para montagem das caixas
