Workbook

Sheet ORÇAMENTO
B2: PREFEITURA MUNICIPAL DE MOCOCA
B3: SECRETARIA MUNICIPAL DE ENGENHARIA E INFRAESTRUTURA URBANA
B4: Rua XV de Novembro, 360 - Centro - Mococa - São Paulo
B5: Portal da Cidadania: www.mococa.sp.gov.br
B9: EMPREENDIMENTO : ADAPTAÇÕES ESPAÇO NOVA VIDA | G9: Mococa, 17 de abril de 2026
B10: LOCAL: Av. Jose Justi, 112 - Jardim Santa Maria, Mococa - SP, 13732-475
B11: FONTE/DATA BASE: CDHU 200 sem desoneração | I11: BDI 20,00%
B13: ITEM | C13: CÓDIGO | D13: FONTE | E13: DESCRIÇÃO | F13: UNID. | G13: VALOR MÁXIMO UNITÁRIO | H13: QUANTIDADE | I13: VALOR MAXIMO TOTAL
B15: 1 | C15: ADAPTAÇÕES E REPOSIÇÕES
B16: 1.1 | C16: 02.05.202 | D16: CDHU | E16: Andaime torre metálico (1,5 x 1,5 m) com piso metálico | F16: MXMÊS | G16: 28.84 | H16: =6/30*(40) -> 8 | I16: =H16*G16 -> 230.72 | K16: 6m de altura / 30 dias * 40 dias
B17: 1.2 | C17: 02.05.060 | D17: CDHU | E17: Montagem e desmontagem de andaime torre metálica com altura até 10 m | F17: M | G17: 13.83 | H17: 6 | I17: =H17*G17 -> 82.98 | K17: 6m e altura
B18: 1.3 | C18: 04.30.020 | D18: CDHU | E18: Remoção de calha ou rufo | F18: M | G18: 4.93 | H18: 12 | I18: =H18*G18 -> 59.16 | K18: 10m fundos + 2m lateral a frente
B19: 1.4 | C19: 01.23.100 | D19: CDHU | E19: Demolição de concreto armado com preservação de armadura, para reforço e recuperação estrutural | F19: M3 | G19: 514.15 | H19: 0.28 | I19: =H19*G19 -> 143.962
B20: 1.5 | C20: 01.23.030 | D20: CDHU | E20: Preparo de ponte de aderência com adesivo a base de epóxi | F20: M2 | G20: 151.2 | H20: 3.8 | I20: =H20*G20 -> 574.56
B21: 1.6 | C21: 01.23.221 | D21: CDHU | E21: Furação para até 10mm x 100mm em concreto armado, inclusive colagem de armadura (para até 8mm) | F21: UND | G21: 13.6 | H21: 12 | I21: =H21*G21 -> 163.2
B22: 1.7 | C22: 09.01.030 | D22: CDHU | E22: Forma em madeira comum para estrutura | F22: M2 | G22: 252.88 | H22: =12*0.2*2 -> 4.8 | I22: =H22*G22 -> 1213.824 | K22: 12m comprimento * 0,2m altura dfa forma * 2 lados
B23: 1.8 | C23: 09.01.160 | D23: CDHU | E23: Desmontagem de forma em madeira para estrutura de vigas, com tábuas | F23: M2 | G23: 9.23 | H23: =H22 -> 4.8 | I23: =H23*G23 -> 44.304 | K23: =K22 -> 12m comprimento * 0,2m altura dfa forma * 2 lados
B24: 1.9 | C24: 10.01.040 | D24: CDHU | E24: Armadura em barra de aço CA-50 (A ou B) fyk = 500 Mpa (barra de 10mm) | F24: KG | G24: 10.14 | H24: =12*4*0.617 -> 29.616 | I24: =H24*G24 -> 300.30624 | K24: 12m * 4 barras 10 mm * 0,617
B25: 1.10 | C25: 10.01.060 | D25: CDHU | E25: Armadura em barra de aço CA-60 (A ou B) fyk = 600 Mpa (estribos 4,2mm) | F25: KG | G25: 10.47 | H25: 3.84 | I25: =H25*G25 -> 40.2048 | K25: 1 estribo a cada 15cm * 12m = 80un * peso aproximado
B26: 1.11 | C26: 11.03.090 | D26: CDHU | E26: Concreto preparado no local, fck = 20 Mpa | F26: M3 | G26: 557.2 | H26: =12*0.2*0.15 -> 0.36 | I26: =H26*G26 -> 200.592 | K26: 12 * 0,2 h * 0,15l
B27: 1.12 | C27: 11.16.060 | D27: CDHU | E27: Lançamento e adensamento de concreto ou massa em estrutura | F27: M3 | G27: 132.3 | H27: =H26 -> 0.36 | I27: =H27*G27 -> 47.628
B28: 1.13 | C28: 14.04.210 | D28: CDHU | E28: Alvenaria de bloco cerâmico de vedação de 14 cm | F28: M2 | G28: 87.33 | H28: =10*2+(2*3) -> 26 | I28: =H28*G28 -> 2270.58 | K28: 10c * 2h + 2c * 3h
B29: 1.14 | C29: 17.02.020 | D29: CDHU | E29: Chapisco | F29: M2 | G29: 7.73 | H29: 52 | I29: =H29*G29 -> 401.96 | K29: 10c * 2h + 2c * 3h * 2
B30: 1.15 | C30: 17.02.220 | D30: CDHU | E30: Reboco | F30: M2 | G30: 14.6 | H30: 52 | I30: =H30*G30 -> 759.2 | K30: 10c * 2h + 2c * 3h * 2
B31: 1.16 | C31: 33.10.030 | D31: CDHU | E31: Tinta acrílica antimofo em massa, inclusive preparo | F31: M2 | G31: 37.53 | H31: 52 | I31: =H31*G31 -> 1951.56 | K31: 10c * 2h + 2c * 3h * 2
B32: 1.17 | C32: 16.33.022 | D32: CDHU | E32: Calha, rufo, afins em chapa galvanizada nº 24 - corte 0,33 m | F32: M | G32: 118.66 | H32: 12 | I32: =H32*G32 -> 1423.92 | K32: 10m + 2m
B33: 1.18 | C33: COT01 | D33: COTAÇÃO | E33: Concertina em aço galvanizado diametro de 30cm , espaçamento entre as voltas 25cm | F33: M | G33: 15.52 | H33: 12 | I33: =H33*G33 -> 186.24 | K33: 10m + 2m
B34: 1.19 | C34: 41.31.101 | D34: CDHU | E34: Projetor LED retangular, potência de 30 W, fluxo luminoso de 2250 a 2400 lm, temperatura cor 6.500 K, bivolt | F34: UND | G34: 93.13 | H34: 2 | I34: =H34*G34 -> 186.26 | K34: 2 und aos fundos
B35: 1.20 | C35: 39.02.010 | D35: CDHU | E35: Cabo de cobre de 1,5 mm², isolamento 750 V - isolação em PVC 70°C | F35: M | G35: 3.66 | H35: 50 | I35: =H35*G35 -> 183
B36: 1.21 | C36: 40.05.340 | D36: CDHU | E36: Sensor de presença para teto, com fotocélula, para lâmpada qualquer | F36: UND | G36: 51.98 | H36: 2 | I36: =H36*G36 -> 103.96
B37: 1.22 | C37: 1 | D37: COT01 | E37: Cãmera de segurança, wifi - smart dupla lente, 3mp , 360 graus e visão noturna | F37: UND | G37: 209.94 | H37: 4 | I37: =H37*G37 -> 839.76 | K37: 2 aos fundos + 2 a frente | L37: =(249.9+158.92+221)/3 -> 209.94
B38: 1.23 | C38: 66.20.202 | D38: CDHU | E38: Instalação de câmera fixa - cabeamento e ponto de alimentação 127v | F38: UND | G38: 226.54 | H38: 4 | I38: =H38*G38 -> 906.16 | K38: 2 aos fundos + 2 a frente
B39: 1.24 | C39: 23.02.050 | D39: CDHU | E39: Porta macho e fêmea com batente de madeira - 90 x 210 cm | F39: UND | G39: 1593.92 | H39: 1 | I39: =H39*G39 -> 1593.92
F41: TOTAL | H41: =SUM(I16:I39) -> 13907.961
F43: TOTAL COM BDI | H43: =H41*20%+(H41) -> 16689.553

Sheet CFF
B2: PREFEITURA MUNICIPAL DE MOCOCA
B3: SECRETARIA MUNICIPAL DE ENGENHARIA E INFRAESTRUTURA URBANA
B4: Rua XV de Novembro, 360 - Centro - Mococa - São Paulo
B5: Portal da Cidadania: www.mococa.sp.gov.br
B6: Tel: (19) 3656 - 9800
B7: CFF- CRONOGRAMA FÍSICO FINANCEIRO
B8: =ORÇAMENTO!B9 -> EMPREENDIMENTO : ADAPTAÇÕES ESPAÇO NOVA VIDA | I8: =ORÇAMENTO!G9 -> Mococa, 17 de abril de 2026
B9: =ORÇAMENTO!B10 -> LOCAL: Av. Jose Justi, 112 - Jardim Santa Maria, Mococa - SP, 13732-475
B10: =ORÇAMENTO!B11 -> FONTE/DATA BASE: CDHU 200 sem desoneração | J10: =ORÇAMENTO!I11 -> BDI 20,00%
B12: ITEM | C12: DESCRIÇÃO DOS SERVIÇOS | D12: VALOR DOS SERVIÇOS | E12: % | F12: SERVIÇOS A SEREM EXECUTADOS POR PERIODO
F13: 10 dias | G13: 11 a 20 dias | H13: 21 a 30 dias | I13: 31 a 40 dias | J13: TOTAL
B14: 1 | C14: =ORÇAMENTO!C15 -> ADAPTAÇÕES E REPOSIÇÕES | D14: =ORÇAMENTO!H41 -> 13907.961 | E14: =D14/D15 -> 1 | F14: 0.25 | G14: 0.25 | H14: 0.25 | I14: 0.25 | J14: =D14 -> 13907.961
B15: Total em R$ | D15: =ORÇAMENTO!H41 -> 13907.961 | E15: =SUM(E14:E14) -> 1 | F15: =D14/4 -> 3476.9903 | G15: =D14/4 -> 3476.9903 | H15: =D14/4 -> 3476.9903 | I15: =D14/4 -> 3476.9903 | J15: =D15 -> 13907.961
B16: Total em % | F16: =E14/4 -> 0.25 | G16: 0.25 | H16: 0.25 | I16: 0.25 | J16: =SUM(F16:I16) -> 1
B17: Total acumulado em R$ | F17: =F15 -> 3476.9903 | G17: =G15+F17 -> 6953.9805 | H17: =H15+G17 -> 10430.971 | I17: =I15+H17 -> 13907.961 | J17: =I17 -> 13907.961
B18: Total acumulado em % | F18: =F16 -> 0.25 | G18: =G16+F18 -> 0.5 | H18: =H16+G18 -> 0.75 | I18: =I16+H18 -> 1 | J18: =I18 -> 1
B19: BDI 20,00% | F19: =F15*20% -> 695.39805 | G19: =G15*20% -> 695.39805 | H19: =H15*20% -> 695.39805 | I19: =I15*20% -> 695.39805 | J19: =SUM(F19:I19) -> 2781.5922
B20: Total acumulado com BDI 20,00% | F20: =F17+F19 -> 4172.3883 | G20: =G17+G19 -> 7649.3786 | H20: =H17+H19 -> 11126.369 | I20: =I17+I19 -> 14603.359 | J20: =J17+J19 -> 16689.553

Sheet BDI
B2: PREFEITURA MUNICIPAL DE MOCOCA
B3: SECRETARIA MUNICIPAL DE ENGENHARIA E INFRAESTRUTURA URBANA
B4: Rua XV de Novembro, 360 - Centro - Mococa - São Paulo
B5: Portal da Cidadania: www.mococa.sp.gov.br
B6: Tel: (19) 3656 - 9800
B7: PLANILHA ANALÍTICA DO BDI
B8: =ORÇAMENTO!B9 -> EMPREENDIMENTO : ADAPTAÇÕES ESPAÇO NOVA VIDA | G8: =ORÇAMENTO!G9 -> Mococa, 17 de abril de 2026
B9: =ORÇAMENTO!B10 -> LOCAL: Av. Jose Justi, 112 - Jardim Santa Maria, Mococa - SP, 13732-475
B10: =ORÇAMENTO!B11 -> FONTE/DATA BASE: CDHU 200 sem desoneração
B12: ITEM | C12: DESCRIÇÃO | H12: % | I12: TOTAL
B13: 1 | C13: Administração central | I13: 0.035
B14: 2 | C14: Impostos e Taxas | I14: =H15+H16+H17 -> 0.074
B15: 2.1 | C15: ISS | H15: 0.03
B16: 2.2 | C16: PIS | H16: 0.008
B17: 2.3 | C17: Cofins | H17: 0.036
B18: 3 | C18: Taxa de Risco | I18: =H19+H20+H21 -> 0.021
B19: 3.1 | C19: Seguro | H19: 0.006
B20: 3.2 | C20: Risco | H20: 0.009
B21: 3.3 | C21: Garantia | H21: 0.006
B22: 4 | C22: Dispesa Financeira | I22: 0.02
B23: 5 | C23: Lucro | I23: 0.05
F24: BDI TOTAL | H24: =I23+I22+I18+I14+I13 -> 0.2

Sheet CÁLCULO
B2: PREFEITURA MUNICIPAL DE MOCOCA
B3: SECRETARIA MUNICIPAL DE ENGENHARIA E INFRAESTRUTURA URBANA
B4: Rua XV de Novembro, 360 - Centro - Mococa - São Paulo
B5: Portal da Cidadania: www.mococa.sp.gov.br
B6: Tel: (19) 3656 - 9800
B7: MC- MEMORIAL DE CÁLCULO
B8: =ORÇAMENTO!B9 -> EMPREENDIMENTO : ADAPTAÇÕES ESPAÇO NOVA VIDA | G8: =ORÇAMENTO!G9 -> Mococa, 17 de abril de 2026
B9: =ORÇAMENTO!B10 -> LOCAL: Av. Jose Justi, 112 - Jardim Santa Maria, Mococa - SP, 13732-475
B10: =ORÇAMENTO!B11 -> FONTE/DATA BASE: CDHU 200 sem desoneração | H10: =ORÇAMENTO!H11 -> 0 | I10: =ORÇAMENTO!I11 -> BDI 20,00%
B12: ITEM | C12: SERVIÇO | F12: QUANTIDADE | G12: CÁLCULO
B13: 1 | C13: =ORÇAMENTO!C15 -> ADAPTAÇÕES E REPOSIÇÕES | G13: Descrição do cálculo
B14: 1.1 | C14: =ORÇAMENTO!E16 -> Andaime torre metálico (1,5 x 1,5 m) com piso metálico | F14: =ORÇAMENTO!H16 -> 8
B15: 1.2 | C15: =ORÇAMENTO!E20 -> Preparo de ponte de aderência com adesivo a base de epóxi | F15: =ORÇAMENTO!H20 -> 3.8
B16: 1.3 | C16: =ORÇAMENTO!E21 -> Furação para até 10mm x 100mm em concreto armado, inclusive colagem de armadura (para até 8mm) | F16: =ORÇAMENTO!H21 -> 12
B17: 1.4 | C17: =ORÇAMENTO!E22 -> Forma em madeira comum para estrutura | F17: =ORÇAMENTO!H22 -> 4.8
B18: 1.5 | C18: =ORÇAMENTO!E23 -> Desmontagem de forma em madeira para estrutura de vigas, com tábuas | F18: =ORÇAMENTO!H23 -> 4.8
B19: 1.6 | C19: =ORÇAMENTO!#REF! -> #REF! | F19: =ORÇAMENTO!#REF! -> #REF!
B20: 1.7 | C20: =ORÇAMENTO!E24 -> Armadura em barra de aço CA-50 (A ou B) fyk = 500 Mpa (barra de 10mm) | F20: =ORÇAMENTO!H24 -> 29.616
B21: 1.8 | C21: =ORÇAMENTO!E30 -> Reboco | F21: =ORÇAMENTO!H30 -> 52
B22: 1.9 | C22: =ORÇAMENTO!E31 -> Tinta acrílica antimofo em massa, inclusive preparo | F22: =ORÇAMENTO!H31 -> 52
B23: 1.10 | C23: =ORÇAMENTO!E32 -> Calha, rufo, afins em chapa galvanizada nº 24 - corte 0,33 m | F23: =ORÇAMENTO!H32 -> 12
B24: 1.11 | C24: =ORÇAMENTO!E33 -> Concertina em aço galvanizado diametro de 30cm , espaçamento entre as voltas 25cm | F24: =ORÇAMENTO!H33 -> 12
B25: 1.12 | C25: =ORÇAMENTO!E34 -> Projetor LED retangular, potência de 30 W, fluxo luminoso de 2250 a 2400 lm, temperatura cor 6.500 K, bivolt | F25: =ORÇAMENTO!H34 -> 2
B26: 1.13 | C26: =ORÇAMENTO!#REF! -> #REF! | F26: =ORÇAMENTO!#REF! -> #REF!
B27: 1.14 | C27: =ORÇAMENTO!#REF! -> #REF! | F27: =ORÇAMENTO!#REF! -> #REF!
B28: 1.15 | C28: =ORÇAMENTO!#REF! -> #REF! | F28: =ORÇAMENTO!#REF! -> #REF!
B29: 1.16 | C29: =ORÇAMENTO!#REF! -> #REF! | F29: =ORÇAMENTO!#REF! -> #REF!
B30: 5.4 | C30: =ORÇAMENTO!#REF! -> #REF! | F30: =ORÇAMENTO!#REF! -> #REF!
B31: 5.5 | C31: =ORÇAMENTO!#REF! -> #REF! | F31: =ORÇAMENTO!#REF! -> #REF!
B32: 5.1 | C32: =ORÇAMENTO!#REF! -> #REF! | F32: =ORÇAMENTO!#REF! -> #REF!
B33: 5.2 | C33: =ORÇAMENTO!#REF! -> #REF! | F33: =ORÇAMENTO!#REF! -> #REF!
B34: 5.3 | C34: =ORÇAMENTO!#REF! -> #REF! | F34: =ORÇAMENTO!#REF! -> #REF!
B35: 5.4 | C35: =ORÇAMENTO!#REF! -> #REF! | F35: =ORÇAMENTO!#REF! -> #REF!
B36: 5.5 | C36: =ORÇAMENTO!#REF! -> #REF! | F36: =ORÇAMENTO!#REF! -> #REF!
